BEGIN:VCALENDAR
VERSION:2.0
PRODID:-//ddaysoftware.com//NONSGML DDay.iCal 1.0//EN
BEGIN:VTIMEZONE
TZID:Central Standard Time
BEGIN:STANDARD
DTSTART:20251102T020000
RRULE:FREQ=YEARLY;BYDAY=1SU;BYHOUR=2;BYMINUTE=0;BYMONTH=11
TZNAME:Central Standard Time
TZOFFSETFROM:-0500
TZOFFSETTO:-0600
END:STANDARD
BEGIN:DAYLIGHT
DTSTART:20250301T020000
RRULE:FREQ=YEARLY;BYDAY=2SU;BYHOUR=2;BYMINUTE=0;BYMONTH=3
TZNAME:Central Daylight Time
TZOFFSETFROM:-0600
TZOFFSETTO:-0500
END:DAYLIGHT
END:VTIMEZONE
BEGIN:VEVENT
DESCRIPTION:Event information\, maps\, Q&As\, event scheduling\, and more c
 an be found via the event site: https://ruffout.org\n[All information prov
 ided on this page has been taken from the event site. Please double check 
 the official source when planning your convention trip for any updates and
  for general information!]\n\nThe event will be held May 1st - 3rd.\n-----
 ---------------\n"Picture this – a weekend surrounded by nature\, furry fr
 iends\, and good vibes. From relaxing by campfire with storytelling to exp
 loring trails with friends new and old.\n\nIt’s Ruff Out is more than just
  a campout – it’s a laid back adventure where you can be yourself and make
  furry memories.\n\n'It’s Ruff Out' is an annual primitive camping event h
 osted by the Wisconsin Furs\, which takes place in various stunning locati
 ons across the state of Wisconsin.\n\nThis event\, which began in 2019\, o
 ffers attendees the opportunity to immerse themselves in the natural beaut
 y of Wisconsin’s state parks while spending a weekend bonding with fellow 
 furs. Join us for a weekend of outdoor adventure and unforgettable memorie
 s in the heart of Wisconsin’s wilderness."\n--------------------\nTICKETS:
 \n--------------------\n- Attendee ($40 USD): A personalized themed badge 
 with your name and access to group site and community firewood supply.\n- 
 Sponsor ($60 USD): Attendee registration perks + Limited edition commemora
 tive t-shirt.\n--------------------\nACTIVITY SUMMARY:\n------------------
 --\n- Campfire\n- Storytelling\n- Nature trails\n- More to be announced\, 
 stay tuned!\n\nEvent details provided by Ferzu.\nhttps://www.ferzu.com/Eve
 nt/ItsRuffOut2026
DTEND:20260503T000000
DTSTAMP:20260421T120032Z
DTSTART:20260501T120000
LOCATION:Dousman\, Wisconsin\, United States
SEQUENCE:0
SUMMARY:It's Ruff Out 2026
UID:a8f54cc9-4f84-4a56-b95a-d608243ed1a2
END:VEVENT
END:VCALENDAR
