BEGIN:VCALENDAR
VERSION:2.0
PRODID:-//ddaysoftware.com//NONSGML DDay.iCal 1.0//EN
BEGIN:VTIMEZONE
TZID:Pacific Standard Time
BEGIN:STANDARD
DTSTART:20251102T020000
RRULE:FREQ=YEARLY;BYDAY=1SU;BYHOUR=2;BYMINUTE=0;BYMONTH=11
TZNAME:Pacific Standard Time
TZOFFSETFROM:-0700
TZOFFSETTO:-0800
END:STANDARD
BEGIN:DAYLIGHT
DTSTART:20250301T020000
RRULE:FREQ=YEARLY;BYDAY=2SU;BYHOUR=2;BYMINUTE=0;BYMONTH=3
TZNAME:Pacific Daylight Time
TZOFFSETFROM:-0800
TZOFFSETTO:-0700
END:DAYLIGHT
END:VTIMEZONE
BEGIN:VEVENT
DESCRIPTION:Event information\, maps\, Q&As\, event scheduling\, and more c
 an be found via the event site: https://gsfurcon.org\n[All information pro
 vided on this page has been taken from the event site. Please double check
  the official source when planning your convention trip for any updates an
 d for general information!]\n\nThe event will be held March 13th - 15th.\n
 --------------------\n"Golden State Fur Con\, or GSFC\, is Southern Califo
 rnia’s premier furry gathering\, held at the Hilton LAX. With a strong com
 munity focus\, GSFC invites all to be part of its journey and help this co
 nvention thrive!\n\nJoin in on the variety of activities\, including panel
 s\, meet-and-greets\, dances\, and a Dealer’s Den. Discover all that GSFC 
 has waiting for you and come share in the experience!"\n------------------
 --\nTICKETS:\n--------------------\n- Friday ($60 USD): Friday Only\n- Sat
 urday	($70 USD): Saturday Only\n- Sunday ($50 USD):	Sunday Only\n- Weekend
 	($90 USD): All 3 Days\n- Weekend	Pre-Reg *closes Feb. 27th\, 2026 ($80 US
 D): All 3 Days\n- Sponsor *closes Feb. 13th\, 2026 ($250 USD): All 3 Days.
  Includes Con Shirt\, Con Lanyard\, Con Pin\, Conbook\, and a Special Gift
 .\n- Patron *closes Jan. 30th\, 2026 ($350 USD): All 3 Days. Includes Con 
 Shirt\, Con Lanyard\, Con Pin\, Conbook\, Reception & Cocktail Hour\, and 
 a Special Gift.\n--------------------\nAGENDA SUMMARY:\n------------------
 --\n- Floor Wars\n- Drag Show (18+)\n- Friday Night Dance\n- K-Pop and J-P
 op Random Play Dance\n- Model trains with the bobcat canyon railroad club\
 n- Werewolf Transformations & Lore in Media\n- Make and Trade Artist Tradi
 ng Cards\n- Ribbon ribbon ribbons????\n- Whiskers & Wit: AFTER DARK (18+)\
 n- Pokémon Party\n- Introduction to Music Creation\n- DJing 101: A primer 
 to mixing and equipment\n- Omi’s Trading Post\n- The Kandi Panel\n- The Ch
 urch of Baja Blast\n- An Analysis of Environmental Story Telling In Elder 
 Scrolls – A Quick Retrospective (18+)\n- Riichi Mahjong With Furs\n- Fur T
 he Grey – We Ain’t Old Yet!\n- Once Upon A Fursona: Design Class\n- Trash 
 Creature Meetup\n- How to make it sexy (18+)\n- Motorized Animal Meet Up\n
 - Scribble’s Artist Meet and Greet\n- and much more!\n\n\nEvent details pr
 ovided by Ferzu.\nhttps://www.ferzu.com/Event/GSFC2026
DTEND:20260315T193000
DTSTAMP:20260422T083707Z
DTSTART:20260313T080000
LOCATION:Los Angeles\, California\, United States
SEQUENCE:0
SUMMARY:Golden State Fur Con 2026
UID:4f151726-5006-4892-bfad-28082d7379fb
END:VEVENT
END:VCALENDAR
