BEGIN:VCALENDAR
VERSION:2.0
PRODID:-//ddaysoftware.com//NONSGML DDay.iCal 1.0//EN
BEGIN:VTIMEZONE
TZID:Pacific Standard Time
BEGIN:STANDARD
DTSTART:20251102T020000
RRULE:FREQ=YEARLY;BYDAY=1SU;BYHOUR=2;BYMINUTE=0;BYMONTH=11
TZNAME:Pacific Standard Time
TZOFFSETFROM:-0700
TZOFFSETTO:-0800
END:STANDARD
BEGIN:DAYLIGHT
DTSTART:20250301T020000
RRULE:FREQ=YEARLY;BYDAY=2SU;BYHOUR=2;BYMINUTE=0;BYMONTH=3
TZNAME:Pacific Daylight Time
TZOFFSETFROM:-0800
TZOFFSETTO:-0700
END:DAYLIGHT
END:VTIMEZONE
BEGIN:VEVENT
DESCRIPTION:Event information\, maps\, Q&As\, event scheduling\, and more c
 an be found via the event site: https://campfuzz.ca\n[All information prov
 ided on this page has been taken from the event site. Please double check 
 the official source when planning your convention trip for any updates and
  for general information!]\n\nThe event will be held April 30th - May 4th.
 \n--------------------\n"Our location this year is at gorgeous\, French Be
 ach Provincial Park\, with beautiful ocean views\, star gazing\, and for t
 hose feeling adventurous\, sandstone tidepools! (sea anemones!)\n\nWe have
  rented the private\, large Group Site\, with a grassy area for your tent 
 set up and a gravel parking space for those with RV's. About 100 meters fr
 om the Beach.\n\nThere is a group fire pit where we will start the event w
 ith some icebreaker games to let everyone get to know one another.\n\nThe 
 rest of the event will play out loosely with activities such as\; beach wa
 lks\, board games\, S'mores\, star gazing\, a movie night\, and to commemo
 rate our time together\, a personalized Tye-Dyed CAMP FUZZ T-Shirt to take
  home with you (minimum 30 participants required for t-shirt).\n\nWe will 
 be providing dimmable lighting in the evenings and a well-lit area for boa
 rd gaming\, a charging station for your devices (Be warned\, cell service 
 is very poor) and a group firepit\, (wood provided by us). Please check ou
 t AMENITIES to see what else we have this year!"\n--------------------\nTI
 CKETS:\n--------------------\n- $120 CAD / ~$88 USD: Full 5 day access to 
 Camp Fuzz\, Amenities\, Activities\, and a Rainbowfied Shirt (30 atendees 
 minimum required).\n--------------------\nACTIVITY SUMMARY:\n-------------
 -------\n- Beach walks\n- Nature trails\n- Wildlife viewing\n- Icebreaker 
 games\n- Board games\n- Campfire stories\n- Star gazing\n- Sandstone tidep
 ools\n- S'mores\n- Movie night\n- Personalized Tye-Dyed CAMP FUZZ T-Shirt\
 n- and more!\n\nEvent details provided by Ferzu.\nhttps://www.ferzu.com/Ev
 ent/Campfuzz2026
DTEND:20260504T000000
DTSTAMP:20260421T120032Z
DTSTART:20260430T140000
LOCATION:Sooke\, British Columbia\, Canada
SEQUENCE:0
SUMMARY:Campfuzz 2026
UID:dfb153a2-eff9-43a2-b456-ddcd5ac8c011
END:VEVENT
END:VCALENDAR
